BEGIN:VCALENDAR
VERSION:2.0
PRODID:-//Coffee-Beans Kevelaer - ECPv6.15.20//NONSGML v1.0//EN
CALSCALE:GREGORIAN
METHOD:PUBLISH
X-WR-CALNAME:Coffee-Beans Kevelaer
X-ORIGINAL-URL:https://www.coffeebeans-kevelaer.de
X-WR-CALDESC:Veranstaltungen für Coffee-Beans Kevelaer
REFRESH-INTERVAL;VALUE=DURATION:PT1H
X-Robots-Tag:noindex
X-PUBLISHED-TTL:PT1H
BEGIN:VTIMEZONE
TZID:Europe/Berlin
BEGIN:DAYLIGHT
TZOFFSETFROM:+0100
TZOFFSETTO:+0200
TZNAME:CEST
DTSTART:20180325T010000
END:DAYLIGHT
BEGIN:STANDARD
TZOFFSETFROM:+0200
TZOFFSETTO:+0100
TZNAME:CET
DTSTART:20181028T010000
END:STANDARD
BEGIN:DAYLIGHT
TZOFFSETFROM:+0100
TZOFFSETTO:+0200
TZNAME:CEST
DTSTART:20190331T010000
END:DAYLIGHT
BEGIN:STANDARD
TZOFFSETFROM:+0200
TZOFFSETTO:+0100
TZNAME:CET
DTSTART:20191027T010000
END:STANDARD
BEGIN:DAYLIGHT
TZOFFSETFROM:+0100
TZOFFSETTO:+0200
TZNAME:CEST
DTSTART:20200329T010000
END:DAYLIGHT
BEGIN:STANDARD
TZOFFSETFROM:+0200
TZOFFSETTO:+0100
TZNAME:CET
DTSTART:20201025T010000
END:STANDARD
BEGIN:DAYLIGHT
TZOFFSETFROM:+0100
TZOFFSETTO:+0200
TZNAME:CEST
DTSTART:20210328T010000
END:DAYLIGHT
BEGIN:STANDARD
TZOFFSETFROM:+0200
TZOFFSETTO:+0100
TZNAME:CET
DTSTART:20211031T010000
END:STANDARD
END:VTIMEZONE
BEGIN:VEVENT
DTSTART;TZID=Europe/Berlin:20200321T161500
DTEND;TZID=Europe/Berlin:20200321T174500
DTSTAMP:20260424T143414
CREATED:20191219T074633Z
LAST-MODIFIED:20191219T074633Z
UID:331-1584807300-1584812700@www.coffeebeans-kevelaer.de
SUMMARY:Finde Deine Bohne
DESCRIPTION:Erfahren Sie die unterschiedlichen Charaktere eines Kaffees und finden Sie ihre persönliche Bohne. Nach einer Blindverkostung von vier Kaffee-Sorten wird das Thema vertieft. \nMinimum Teilnehmerzahl: 2 Personen\nMaximale Teilnehmerzahl: 6 Personen \nTeilnehmergebühr: 25\,00 EUR pro Person und Veranstaltung \nFür dieses Kaffee-Seminar sind keinerlei Vorkenntnisse nötig. \nWeitere Informationen und Anmeldung vor Ort oder online …
URL:https://www.coffeebeans-kevelaer.de/veranstaltungen/finde-deine-bohne-3/
LOCATION:Coffee Beans Kevelaer\, Busmannstraße 18a\, Kevelaer\, NRW\, 47623
CATEGORIES:Tasting
END:VEVENT
BEGIN:VEVENT
DTSTART;TZID=Europe/Berlin:20200307T161500
DTEND;TZID=Europe/Berlin:20200307T174500
DTSTAMP:20260424T143414
CREATED:20191219T074543Z
LAST-MODIFIED:20200116T221122Z
UID:329-1583597700-1583603100@www.coffeebeans-kevelaer.de
SUMMARY:Die Welt des Kaffees
DESCRIPTION:Tauchen Sie ein in die Welt des Kaffees\, erfahren Sie mehr über Herkunft\, Aufbereitung und die Zubereitung des Kaffees. \nVerkosten Sie verschiedene Kaffeesorten. \nMinimum Teilnehmerzahl: 2 Personen\nMaximale Teilnehmerzahl: 6 Personen \nPreis pro Person und Veranstaltung: 25\,00 EUR \nFür dieses Kaffee-Seminar sind keinerlei Vorkenntnisse nötig. \nWeitere Informationen und Anmeldung vor Ort oder online …
URL:https://www.coffeebeans-kevelaer.de/veranstaltungen/die-welt-des-kaffees-03/
LOCATION:Coffee Beans Kevelaer\, Busmannstraße 18a\, Kevelaer\, NRW\, 47623
CATEGORIES:Brewing
END:VEVENT
BEGIN:VEVENT
DTSTART;TZID=Europe/Berlin:20200215T161500
DTEND;TZID=Europe/Berlin:20200215T174500
DTSTAMP:20260424T143414
CREATED:20191103T200817Z
LAST-MODIFIED:20191104T202744Z
UID:221-1581783300-1581788700@www.coffeebeans-kevelaer.de
SUMMARY:Finde Deine Bohne
DESCRIPTION:Erfahren Sie die unterschiedlichen Charaktere eines Kaffees und finden Sie ihre persönliche Bohne. Nach einer Blindverkostung von vier Kaffee-Sorten wird das Thema vertieft. \nMinimum Teilnehmerzahl: 2 Personen\nMaximale Teilnehmerzahl: 6 Personen \nTeilnehmergebühr: 25\,00 EUR pro Person und Veranstaltung \nFür dieses Kaffee-Seminar sind keinerlei Vorkenntnisse nötig. \nWeitere Informationen und Anmeldung vor Ort oder online …
URL:https://www.coffeebeans-kevelaer.de/veranstaltungen/finde-deine-bohne-2/
LOCATION:Coffee Beans Kevelaer\, Busmannstraße 18a\, Kevelaer\, NRW\, 47623
CATEGORIES:Tasting
END:VEVENT
BEGIN:VEVENT
DTSTART;TZID=Europe/Berlin:20200208T161500
DTEND;TZID=Europe/Berlin:20200208T174500
DTSTAMP:20260424T143414
CREATED:20191103T201201Z
LAST-MODIFIED:20200116T220943Z
UID:225-1581178500-1581183900@www.coffeebeans-kevelaer.de
SUMMARY:Die Welt des Kaffees
DESCRIPTION:Tauchen Sie ein in die Welt des Kaffees\, erfahren Sie mehr über Herkunft\, Aufbereitung und die Zubereitung des Kaffees. \nVerkosten Sie verschiedene Kaffeesorten. \nMinimum Teilnehmerzahl: 2 Personen\nMaximale Teilnehmerzahl: 6 Personen \nPreis pro Person und Veranstaltung: 25\,00 EUR \nFür dieses Kaffee-Seminar sind keinerlei Vorkenntnisse nötig. \nWeitere Informationen und Anmeldung vor Ort oder online …
URL:https://www.coffeebeans-kevelaer.de/veranstaltungen/die-welt-des-kaffees/
LOCATION:Coffee Beans Kevelaer\, Busmannstraße 18a\, Kevelaer\, NRW\, 47623
CATEGORIES:Brewing
END:VEVENT
BEGIN:VEVENT
DTSTART;TZID=Europe/Berlin:20200118T161500
DTEND;TZID=Europe/Berlin:20200118T174500
DTSTAMP:20260424T143414
CREATED:20191103T200541Z
LAST-MODIFIED:20191104T202857Z
UID:219-1579364100-1579369500@www.coffeebeans-kevelaer.de
SUMMARY:Finde Deine Bohne
DESCRIPTION:Erfahren Sie die unterschiedlichen Charaktere eines Kaffees und finden Sie ihre persönliche Bohne. Nach einer Blindverkostung von vier Kaffee-Sorten wird das Thema vertieft. \nMinimum Teilnehmerzahl: 2 Personen\nMaximale Teilnehmerzahl: 6 Personen \nTeilnehmergebühr: 25\,00 EUR pro Person und Veranstaltung \nFür dieses Kaffee-Seminar sind keinerlei Vorkenntnisse nötig. \nWeitere Informationen und Anmeldung vor Ort oder online …
URL:https://www.coffeebeans-kevelaer.de/veranstaltungen/finde-deine-bohne/
LOCATION:Coffee Beans Kevelaer\, Busmannstraße 18a\, Kevelaer\, NRW\, 47623
CATEGORIES:Tasting
END:VEVENT
BEGIN:VEVENT
DTSTART;TZID=Europe/Berlin:20200111T161500
DTEND;TZID=Europe/Berlin:20200111T174500
DTSTAMP:20260424T143414
CREATED:20191103T201100Z
LAST-MODIFIED:20191104T202921Z
UID:223-1578759300-1578764700@www.coffeebeans-kevelaer.de
SUMMARY:Kaffeebrühen leicht gemacht
DESCRIPTION:Lernen Sie die verschiedenen Aufgußarten in der Kaffeezubereitung kennen. Vermittelt werden Kenntnisse über Mahlgrad und Wassertemperatur bei der Zubereitung mit dem Handfilter\, French Press und Chemex. \nMinimum Teilnehmerzahl: 2 Personen\nMaximale Teilnehmerzahl: 6 Personen \nPreis pro Person und Veranstaltung: 25\,00 EUR \nFür dieses Kaffee-Seminar sind keinerlei Vorkenntnisse nötig. \nWeitere Informationen und Anmeldung vor Ort oder online …
URL:https://www.coffeebeans-kevelaer.de/veranstaltungen/kaffeebruehen-leicht-gemacht-2/
LOCATION:Coffee Beans Kevelaer\, Busmannstraße 18a\, Kevelaer\, NRW\, 47623
CATEGORIES:Brewing
END:VEVENT
BEGIN:VEVENT
DTSTART;TZID=Europe/Berlin:20191123T161500
DTEND;TZID=Europe/Berlin:20191123T174500
DTSTAMP:20260424T143414
CREATED:20191027T192116Z
LAST-MODIFIED:20191104T202949Z
UID:69-1574525700-1574531100@www.coffeebeans-kevelaer.de
SUMMARY:Finde Deine Bohne
DESCRIPTION:Erfahren Sie die unterschiedlichen Charaktere eines Kaffees und finden Sie ihre persönliche Bohne. Nach einer Blindverkostung von vier Kaffee-Sorten wird das Thema vertieft. \nMinimum Teilnehmerzahl: 2 Personen\nMaximale Teilnehmerzahl: 6 Personen \nTeilnehmergebühr: 25\,00 EUR pro Person und Veranstaltung \nFür dieses Kaffee-Seminar sind keinerlei Vorkenntnisse nötig. \nWeitere Informationen und Anmeldung vor Ort oder online …
URL:https://www.coffeebeans-kevelaer.de/veranstaltungen/finden-deine-bohne/
LOCATION:Coffee Beans Kevelaer\, Busmannstraße 18a\, Kevelaer\, NRW\, 47623
CATEGORIES:Tasting
END:VEVENT
BEGIN:VEVENT
DTSTART;TZID=Europe/Berlin:20191116T161500
DTEND;TZID=Europe/Berlin:20191116T174500
DTSTAMP:20260424T143414
CREATED:20191027T192055Z
LAST-MODIFIED:20191104T203015Z
UID:67-1573920900-1573926300@www.coffeebeans-kevelaer.de
SUMMARY:Kaffeebrühen leicht gemacht
DESCRIPTION:Lernen Sie die verschiedenen Aufgußarten in der Kaffeezubereitung kennen. Vermittelt werden Kenntnisse über Mahlgrad und Wassertemperatur bei der Zubereitung mit dem Handfilter\, French Press und Chemex. \nMinimum Teilnehmerzahl: 2 Personen\nMaximale Teilnehmerzahl: 6 Personen \nPreis pro Person und Veranstaltung: 25\,00 EUR \nFür dieses Kaffee-Seminar sind keinerlei Vorkenntnisse nötig. \nWeitere Informationen und Anmeldung vor Ort oder online …
URL:https://www.coffeebeans-kevelaer.de/veranstaltungen/kaffeebruehen-leicht-gemacht/
LOCATION:Coffee Beans Kevelaer\, Busmannstraße 18a\, Kevelaer\, NRW\, 47623
CATEGORIES:Brewing
END:VEVENT
END:VCALENDAR